BEGIN:VCALENDAR
PRODID:-//Solspace/Calendar 2.x//EN
VERSION:2.0
CALSCALE:GREGORIAN
BEGIN:VEVENT
UID:de507e97de4adc255edce7d4a976bc79@solspace.com
DTSTAMP:20260420T023711
DTSTART;VALUE=DATE:20260525
DTEND;VALUE=DATE:20260526
SUMMARY:Memorial Day- No School/No Childcare
END:VEVENT
END:VCALENDAR
